BEGIN:VCALENDAR
VERSION:2.0
PRODID:-//SABEL Schulen München - ECPv6.15.18//NONSGML v1.0//EN
CALSCALE:GREGORIAN
METHOD:PUBLISH
X-WR-CALNAME:SABEL Schulen München
X-ORIGINAL-URL:https://muenchen.sabel.com
X-WR-CALDESC:Veranstaltungen für SABEL Schulen München
REFRESH-INTERVAL;VALUE=DURATION:PT1H
X-Robots-Tag:noindex
X-PUBLISHED-TTL:PT1H
BEGIN:VTIMEZONE
TZID:Europe/Berlin
BEGIN:DAYLIGHT
TZOFFSETFROM:+0100
TZOFFSETTO:+0200
TZNAME:CEST
DTSTART:20250330T010000
END:DAYLIGHT
BEGIN:STANDARD
TZOFFSETFROM:+0200
TZOFFSETTO:+0100
TZNAME:CET
DTSTART:20251026T010000
END:STANDARD
BEGIN:DAYLIGHT
TZOFFSETFROM:+0100
TZOFFSETTO:+0200
TZNAME:CEST
DTSTART:20260329T010000
END:DAYLIGHT
BEGIN:STANDARD
TZOFFSETFROM:+0200
TZOFFSETTO:+0100
TZNAME:CET
DTSTART:20261025T010000
END:STANDARD
BEGIN:DAYLIGHT
TZOFFSETFROM:+0100
TZOFFSETTO:+0200
TZNAME:CEST
DTSTART:20270328T010000
END:DAYLIGHT
BEGIN:STANDARD
TZOFFSETFROM:+0200
TZOFFSETTO:+0100
TZNAME:CET
DTSTART:20271031T010000
END:STANDARD
END:VTIMEZONE
BEGIN:VEVENT
DTSTART;TZID=Europe/Berlin:20260420T180000
DTEND;TZID=Europe/Berlin:20260420T184500
DTSTAMP:20260420T131433
CREATED:20240313T145335Z
LAST-MODIFIED:20260319T085557Z
UID:24530-1776708000-1776710700@muenchen.sabel.com
SUMMARY:Online-Infoabend zum Wirtschaftsfachwirt – gleich anmelden!
DESCRIPTION:Nutzen Sie unseren Online-Informationsabend am 20. April 2026 um mehr über unsere Weiterbildung zum Wirtschaftsfachwirt zu erfahren und konkrete Fragen an Frau Schober zu stellen. \nMELDEN SIE SICH BEREITS JETZT HIER AN. \nWir freuen uns auf Ihren Besuch!
URL:https://muenchen.sabel.com/veranstaltung/online-infoabend-zum-wirtschaftsfachwirt-apr/
CATEGORIES:Infoabende,Infoveranstaltung für Wirtschaftsfachwirte
END:VEVENT
END:VCALENDAR